BEGIN:VCALENDAR
VERSION:2.0
PRODID:-//SBI - ECPv6.15.20//NONSGML v1.0//EN
CALSCALE:GREGORIAN
METHOD:PUBLISH
X-WR-CALNAME:SBI
X-ORIGINAL-URL:https://infectologia.org.br
X-WR-CALDESC:Eventos para SBI
REFRESH-INTERVAL;VALUE=DURATION:PT1H
X-Robots-Tag:noindex
X-PUBLISHED-TTL:PT1H
BEGIN:VTIMEZONE
TZID:America/Sao_Paulo
BEGIN:STANDARD
TZOFFSETFROM:-0300
TZOFFSETTO:-0300
TZNAME:-03
DTSTART:20230101T000000
END:STANDARD
END:VTIMEZONE
BEGIN:VEVENT
DTSTART;VALUE=DATE:20241206
DTEND;VALUE=DATE:20241208
DTSTAMP:20260425T104039
CREATED:20241010T170723Z
LAST-MODIFIED:20241207T015222Z
UID:11215-1733443200-1733615999@infectologia.org.br
SUMMARY:XIII ORTOINFECTO
DESCRIPTION:Idealizado pelos Professores Doutores Mauro José C Salles\, coordenador do Grupo de Infecção Musculoesquelética (IME)-DOT-EPM-UNIFESP\, e Disciplina de Infectologia do Depto de Medicina da UNIFESP-EPM\, e FCM da Santa Casa – SP e Fernando Baldy\, Prof. Livre-Docente e Chefe da Disciplina de Traumatologia do DOT-EPM-UNIFESP e atual Presidente da Sociedade Brasileira de Ortopedia e Traumatologia (SBOT). \nO XIII ORTOINFECTO \nWorkshop sobre os desafios modernos no manejo das infecções ortopédicas: da teoria à prática atual\, tem por objetivo proporcionar revisão e atualização avançada com experiência teórica e prática nos métodos de prevenção\, de diagnóstico e de tratamento das infecções Musculoesqueléticas\, com ênfase atual na compreensão moderna das Osteomielites e Infecções Associadas aos Biofilmes\, infecções associadas às fraturas\, nas Osteossínteses infectadas de coluna e artroplastias infectadas. \n\n\nTrata-se de evento tradicional acadêmico que já é realizado desde o ano de 2011 na cidade de São Paulo e direcionado a formação técnico-científica aprimoramento teórico e prático no manejo das Infecções Musculoesqueléticas. Destinado para Médicos Cirurgiões Ortopedistas e Traumatologistas\, Infectologistas\, Clínicos Geral\, Enfermeiros e Estudantes\, o Workshop é sempre realizado após o Congresso Brasileiro de Ortopedia e Traumatologia (CBOT)\, e está programado para ser realizado nos dias 06 e 07 de dezembro de 2024 no Auditório do Centro de Integralidade do IAMSPE\, localizado na Rua Pedro de Toledo\, 1800 – Portão 2. \nO evento é composto por parte teórica (7\,0h)\, discussão de casos (4\,5h)\, parte prática microbiológica (3\,0h)\, parte da prática ortopédica (3\,0h)\, discussão e resumo (2\,5h).
URL:https://infectologia.org.br/event/xiii-ortoinfecto/
LOCATION:Auditório do Centro Integralidade do IAMSPE\, Rua Pedro de Toledo\, 1800 – Portão 2 – Vila Clementino\, SÃO PAULO\, SP\, Brasil
CATEGORIES:Nacional
ATTACH;FMTTYPE=image/jpeg:https://infectologia.org.br/wp-content/uploads/2024/10/Ortoinfecto-FINAL-1.jpg
END:VEVENT
END:VCALENDAR