BEGIN:VCALENDAR
VERSION:2.0
PRODID:-//SBI - ECPv6.15.20//NONSGML v1.0//EN
CALSCALE:GREGORIAN
METHOD:PUBLISH
X-WR-CALNAME:SBI
X-ORIGINAL-URL:https://infectologia.org.br
X-WR-CALDESC:Eventos para SBI
REFRESH-INTERVAL;VALUE=DURATION:PT1H
X-Robots-Tag:noindex
X-PUBLISHED-TTL:PT1H
BEGIN:VTIMEZONE
TZID:America/Sao_Paulo
BEGIN:STANDARD
TZOFFSETFROM:-0300
TZOFFSETTO:-0300
TZNAME:-03
DTSTART:20230101T000000
END:STANDARD
END:VTIMEZONE
BEGIN:VEVENT
DTSTART;VALUE=DATE:20241016
DTEND;VALUE=DATE:20241021
DTSTAMP:20260425T134939
CREATED:20240205T213830Z
LAST-MODIFIED:20240205T213830Z
UID:9349-1729036800-1729468799@infectologia.org.br
SUMMARY:IDWeek 2024
DESCRIPTION:Since its inception 20 years ago\, the U.S. President’s Emergency Plan for AIDS Relief (PEPFAR) has saved more than 25 million lives by providing HIV treatment and other lifesaving services in Sub-Saharan Africa and other countries. Leaders in the field analyzed the impact of PEPFAR’s comprehensive strategy on HIV prevention\, treatment\, care\, and support in different regions of the world during IDWeek 2023’s Closing Plenary\, PEPFAR: A Model for Global Public Health Intervention\, now available to watch on-demand. To continue this program’s lifesaving work\, Congress must pass legislation that authorizes the program’s continuation so the United States can help achieve global HIV elimination goals. Contact your congressional representative and senators to urge Congress to swiftly reauthorize PEPFAR.
URL:https://infectologia.org.br/event/idweek-2024/
LOCATION:Los Angeles/CA\, Los Angeles\, CA\, Estados Unidos
CATEGORIES:Internacional
ATTACH;FMTTYPE=image/png:https://infectologia.org.br/wp-content/uploads/2024/02/Screenshot-from-2024-02-05-18-35-52.png
END:VEVENT
END:VCALENDAR