BEGIN:VCALENDAR
VERSION:2.0
PRODID:-//SBI - ECPv6.15.20//NONSGML v1.0//EN
CALSCALE:GREGORIAN
METHOD:PUBLISH
X-ORIGINAL-URL:https://infectologia.org.br
X-WR-CALDESC:Eventos para SBI
REFRESH-INTERVAL;VALUE=DURATION:PT1H
X-Robots-Tag:noindex
X-PUBLISHED-TTL:PT1H
BEGIN:VTIMEZONE
TZID:America/Sao_Paulo
BEGIN:STANDARD
TZOFFSETFROM:-0300
TZOFFSETTO:-0300
TZNAME:-03
DTSTART:20230101T000000
END:STANDARD
END:VTIMEZONE
BEGIN:VEVENT
DTSTART;VALUE=DATE:20240510
DTEND;VALUE=DATE:20240512
DTSTAMP:20260425T214706
CREATED:20240205T155752Z
LAST-MODIFIED:20240205T161322Z
UID:9307-1715299200-1715471999@infectologia.org.br
SUMMARY:17º Hepatoaids
DESCRIPTION:O 17º Hepatoaids acontecerá em maio de 2024\, no formato presencial. Entre os temas que serão abordados no evento deste ano estão as mais novas informações infecção pelo HIV/aids\, hepatites virais\, tuberculose e COVID-19. \nEsse tradicional evento\, idealizado pelo infectologista e professor da Escola Paulista de Medicina – UNIFESP\, Dr. Paulo Roberto Abrão Ferreira\, acontece todos os anos\, ininterruptamente\, desde sua estreia em 2007. Todo o evento conta com um amplo programa científico\, pensado para médicos\, enfermagem\, farmacêuticos\, equipe de saúde mental\, estudantes\, residentes e todos profissionais da área da saúde. Mais uma vez\, o congresso reunirá os mais renomados profissionais da área. Serão temas atuais e polêmicos. \nO conteúdo foi cuidadosamente preparado\, conforme os mais importantes e recentes congressos internacionais das áreas e conforme a realidade nacional de saúde pública. Além disso\, contaremos com os principais professores\, para as apresentações e discussões. \nO HEPATOAIDS mais uma vez conta com o apoio dos Programas estaduais e municipais de DST/aids e hepatites virais\, da Sociedade Brasileira de Infectologia e da Sociedade Brasileira de Hepatologia\, e tem como principal objetivo levar a todos as informações mais recentes\, veiculadas na literatura e em importantes congressos internacionais. Um conteúdo feito para todos os profissionais da área da saúde.
URL:https://infectologia.org.br/event/17o-hepatoaids/
LOCATION:Centro de Convenções do IAMSPE\, Av. Ibirapuera\, 1215 - Indianópolis\, São Paulo\, SP\, 04039-000\, Brasil
CATEGORIES:Nacional
ATTACH;FMTTYPE=image/png:https://infectologia.org.br/wp-content/uploads/2024/02/Screenshot-from-2024-02-05-12-57-17-e1707148747839.png
END:VEVENT
BEGIN:VEVENT
DTSTART;VALUE=DATE:20240517
DTEND;VALUE=DATE:20240518
DTSTAMP:20260425T214706
CREATED:20240326T122531Z
LAST-MODIFIED:20240326T123336Z
UID:9651-1715904000-1715990399@infectologia.org.br
SUMMARY:II Jornada Potiguar de Infectologia
DESCRIPTION:  \nA II Jornada Potiguar de Infectologia é realizada pela Sociedade Riograndense do Norte de Infectologia\, evento este voltado aos profissionais da saúde\, especialmente médicos infectologistas\, médicos generalistas ou de outras especialidades\, estudantes de graduação e outros profissionais da área\, no qual traremos convidados locais e nacionais para atualizações na área de doenças infecciosas. \n  \n \n  \n 
URL:https://infectologia.org.br/event/ii-jornada-potiguar-de-infectologia/
LOCATION:Associação Médica do Rio Grande do Norte\, Av. Hermes da Fonseca\, 1396\, Natal\, RN\, 59020-650\, Brasil
CATEGORIES:Nacional
ATTACH;FMTTYPE=image/png:https://infectologia.org.br/wp-content/uploads/2024/03/Screenshot-from-2024-03-26-09-33-03.png
END:VEVENT
BEGIN:VEVENT
DTSTART;VALUE=DATE:20240520
DTEND;VALUE=DATE:20240525
DTSTAMP:20260425T214706
CREATED:20240205T221458Z
LAST-MODIFIED:20240205T221458Z
UID:9367-1716163200-1716595199@infectologia.org.br
SUMMARY:42nd Annual Meeting of the European Society for Paediatric Infectious Diseases
DESCRIPTION:The European Society for Paediatric Infectious Diseases\, ESPID\, forms the basis for European investigators interested in infectious diseases in children and infection prevention in childhood. \nThe society is engaged in a number of activities including the organisation of multicentre trials\, international exchange of infectious disease fellows and an annual Meeting. Membership includes subscription to the Paediatric Infectious Disease Journal in addition to many other benefits. \n 
URL:https://infectologia.org.br/event/42nd-annual-meeting-of-the-european-society-for-paediatric-infectious-diseases/
LOCATION:Copenhage\, Copenhage\, Dinamarca
CATEGORIES:Internacional,Online
ATTACH;FMTTYPE=image/png:https://infectologia.org.br/wp-content/uploads/2024/02/Screenshot-from-2024-02-05-19-12-54.png
END:VEVENT
END:VCALENDAR