BEGIN:VCALENDAR
VERSION:2.0
PRODID:-//SBI - ECPv6.15.20//NONSGML v1.0//EN
CALSCALE:GREGORIAN
METHOD:PUBLISH
X-ORIGINAL-URL:https://infectologia.org.br
X-WR-CALDESC:Eventos para SBI
REFRESH-INTERVAL;VALUE=DURATION:PT1H
X-Robots-Tag:noindex
X-PUBLISHED-TTL:PT1H
BEGIN:VTIMEZONE
TZID:America/Sao_Paulo
BEGIN:STANDARD
TZOFFSETFROM:-0300
TZOFFSETTO:-0300
TZNAME:-03
DTSTART:20250101T000000
END:STANDARD
END:VTIMEZONE
BEGIN:VEVENT
DTSTART;VALUE=DATE:20260528
DTEND;VALUE=DATE:20260530
DTSTAMP:20260425T074029
CREATED:20260127T123614Z
LAST-MODIFIED:20260206T134829Z
UID:12644-1779926400-1780099199@infectologia.org.br
SUMMARY:5º Congresso Goiano de Infectologia – Infecto Goiás
DESCRIPTION:Auditório do CREMEGO – Conselho Regional de Medicina do Estado de Goiás \nGoiânia – GO \nData: 28 a 29/5/2026 \nMais informações: INFECTOGOIÁS | 5º Congresso Goiano de Infectologia
URL:https://infectologia.org.br/event/5o-congresso-goiano-de-infectologia-infecto-goias/
CATEGORIES:Nacional
ATTACH;FMTTYPE=image/png:https://infectologia.org.br/wp-content/uploads/2026/01/5congresso-goiano-de-infectologia.png
END:VEVENT
BEGIN:VEVENT
DTSTART;TZID=America/Sao_Paulo:20260604T080000
DTEND;TZID=America/Sao_Paulo:20260606T170000
DTSTAMP:20260425T074029
CREATED:20260109T141629Z
LAST-MODIFIED:20260109T141629Z
UID:12570-1780560000-1780765200@infectologia.org.br
SUMMARY:X Congresso Norte/Nordeste
DESCRIPTION:X Congresso Norte/Nordeste \nData: 4 a 6/6/2026 \nCidade:Natal (RN) \nMais informações: \nwww.infectonortenordeste.com.br
URL:https://infectologia.org.br/event/x-congresso-norte-nordeste/
CATEGORIES:Nacional
ATTACH;FMTTYPE=image/png:https://infectologia.org.br/wp-content/uploads/2026/01/infecto-norte-nordeste.png
END:VEVENT
BEGIN:VEVENT
DTSTART;TZID=America/Sao_Paulo:20260610T080000
DTEND;TZID=America/Sao_Paulo:20260612T170000
DTSTAMP:20260425T074029
CREATED:20260414T192037Z
LAST-MODIFIED:20260414T192353Z
UID:13189-1781078400-1781283600@infectologia.org.br
SUMMARY:X INFECTORIO - Congresso de Infectologia do Estado do Rio de Janeiro
DESCRIPTION:X INFECTORIO – Congresso de Infectologia do Estado do Rio de Janeiro \nData: 10 a 12 de junho de 2026 \nCidade: Rio de Janeiro/RJ \nMais informações: https://www.infectorio.com.br/
URL:https://infectologia.org.br/event/x-infectorio-congresso-de-infectologia-do-estado-do-rio-de-janeiro/
CATEGORIES:Nacional
ATTACH;FMTTYPE=image/png:https://infectologia.org.br/wp-content/uploads/2026/04/Captura-de-tela-2026-04-14-161603.png
END:VEVENT
BEGIN:VEVENT
DTSTART;VALUE=DATE:20260716
DTEND;VALUE=DATE:20260718
DTSTAMP:20260425T074029
CREATED:20260203T192445Z
LAST-MODIFIED:20260203T192445Z
UID:12664-1784160000-1784332799@infectologia.org.br
SUMMARY:X Congresso de Infecções Osteoarticulares
DESCRIPTION:X Congresso de Infecções Osteoarticulares\nData 16 e 17/7/2026\nLocal: Centro de Convenções Rebouças\nCidade: São Paulo (SP)\nMais informações: infecção\, infecções\, osteorticulares\, iot\, infecto\, curativos\, enfermagem
URL:https://infectologia.org.br/event/x-congresso-de-infeccoes-osteoarticulares-2/
CATEGORIES:Nacional
ATTACH;FMTTYPE=image/png:https://infectologia.org.br/wp-content/uploads/2026/02/X-Congresso-de-Infeccoes-Osteoarticulares.png
END:VEVENT
BEGIN:VEVENT
DTSTART;VALUE=DATE:20260726
DTEND;VALUE=DATE:20260801
DTSTAMP:20260425T074029
CREATED:20260203T193854Z
LAST-MODIFIED:20260203T193854Z
UID:12679-1785024000-1785542399@infectologia.org.br
SUMMARY:AIDS 2026\, the 26th International AIDS Conference
DESCRIPTION:AIDS 2026\, the 26th International AIDS Conference \nRio de Janeiro \nData: 26 a 31/7/2026 \nMais informações: AIDS 2026\, the 26th International AIDS Conference | AIDS 2026 \nLink: Eventos from novembro 8\, 2023 – maio 17\, 2024 › Internacional › – SBI
URL:https://infectologia.org.br/event/aids-2026-the-26th-international-aids-conference/
ATTACH;FMTTYPE=image/png:https://infectologia.org.br/wp-content/uploads/2026/02/aids.png
END:VEVENT
BEGIN:VEVENT
DTSTART;TZID=America/Sao_Paulo:20260726T080000
DTEND;TZID=America/Sao_Paulo:20260731T170000
DTSTAMP:20260425T074029
CREATED:20260414T211648Z
LAST-MODIFIED:20260414T211648Z
UID:13194-1785052800-1785517200@infectologia.org.br
SUMMARY:AIDS 2026 - 26th International AIDS Conference
DESCRIPTION:26th International AIDS Conference \nData: 26 a 31 de julho de 2026 \nLocal: Rio de Janeiro/RJ \nInformações: https://www.iasociety.org/conferences/aids2026
URL:https://infectologia.org.br/event/aids-2026-26th-international-aids-conference/
CATEGORIES:Internacional
ATTACH;FMTTYPE=image/png:https://infectologia.org.br/wp-content/uploads/2026/04/AIDS-2026-logo-e1776201396251.png
END:VEVENT
BEGIN:VEVENT
DTSTART;VALUE=DATE:20260826
DTEND;VALUE=DATE:20260830
DTSTAMP:20260425T074029
CREATED:20260127T123811Z
LAST-MODIFIED:20260327T212545Z
UID:12646-1787702400-1788047999@infectologia.org.br
SUMMARY:15º Congresso Paulista de Infectologia
DESCRIPTION:Centro de Convenções Frei Caneca \nSão Paulo – SP \nData: 26 a 29/8/2026 \nMais informações: https://www.infectologiapaulista.org.br/Home
URL:https://infectologia.org.br/event/15o-congresso-paulista-de-infectologia/
CATEGORIES:Nacional
ATTACH;FMTTYPE=image/png:https://infectologia.org.br/wp-content/uploads/2026/01/15-congresso-paulista-de-infectologia.png
END:VEVENT
BEGIN:VEVENT
DTSTART;TZID=America/Sao_Paulo:20261112T080000
DTEND;TZID=America/Sao_Paulo:20261114T170000
DTSTAMP:20260425T074029
CREATED:20260109T141902Z
LAST-MODIFIED:20260127T132344Z
UID:12573-1794470400-1794675600@infectologia.org.br
SUMMARY:V Congresso Centro/Sul de Infectologia
DESCRIPTION:V Congresso Centro/Sul de Infectologia \nData: 12 a 14/11/2026 \nCidade: Brasília (DF) \nMais informações: www.infectocentrosul.com.br
URL:https://infectologia.org.br/event/v-congresso-centro-sul-de-infectologia/
CATEGORIES:Nacional
ATTACH;FMTTYPE=image/png:https://infectologia.org.br/wp-content/uploads/2026/01/infecto-centro-sul.png
END:VEVENT
END:VCALENDAR