BEGIN:VCALENDAR
VERSION:2.0
PRODID:-//SBI - ECPv6.15.20//NONSGML v1.0//EN
CALSCALE:GREGORIAN
METHOD:PUBLISH
X-ORIGINAL-URL:https://infectologia.org.br
X-WR-CALDESC:Eventos para SBI
REFRESH-INTERVAL;VALUE=DURATION:PT1H
X-Robots-Tag:noindex
X-PUBLISHED-TTL:PT1H
BEGIN:VTIMEZONE
TZID:America/Sao_Paulo
BEGIN:STANDARD
TZOFFSETFROM:-0300
TZOFFSETTO:-0300
TZNAME:-03
DTSTART:20240101T000000
END:STANDARD
END:VTIMEZONE
BEGIN:VEVENT
DTSTART;TZID=America/Sao_Paulo:20251120T080000
DTEND;TZID=America/Sao_Paulo:20251121T170000
DTSTAMP:20260425T074820
CREATED:20250806T175232Z
LAST-MODIFIED:20250806T175232Z
UID:12237-1763625600-1763744400@infectologia.org.br
SUMMARY:4th International Conference on Infectious Diseases 2025
DESCRIPTION:Data: 20 e 21/10/2025\nLocal: Dubai
URL:https://infectologia.org.br/event/4th-international-conference-on-infectious-diseases-2025/
CATEGORIES:Internacional
ATTACH;FMTTYPE=image/png:https://infectologia.org.br/wp-content/uploads/2025/08/evento05.png
END:VEVENT
END:VCALENDAR