BEGIN:VCALENDAR
VERSION:2.0
PRODID:-//SBI - ECPv6.15.20//NONSGML v1.0//EN
CALSCALE:GREGORIAN
METHOD:PUBLISH
X-ORIGINAL-URL:https://infectologia.org.br
X-WR-CALDESC:Eventos para SBI
REFRESH-INTERVAL;VALUE=DURATION:PT1H
X-Robots-Tag:noindex
X-PUBLISHED-TTL:PT1H
BEGIN:VTIMEZONE
TZID:America/Sao_Paulo
BEGIN:STANDARD
TZOFFSETFROM:-0300
TZOFFSETTO:-0300
TZNAME:-03
DTSTART:20240101T000000
END:STANDARD
END:VTIMEZONE
BEGIN:VEVENT
DTSTART;VALUE=DATE:20251205
DTEND;VALUE=DATE:20251207
DTSTAMP:20260425T123838
CREATED:20251121T190156Z
LAST-MODIFIED:20251121T192133Z
UID:12486-1764892800-1765065599@infectologia.org.br
SUMMARY:XIV Ortoinfecto
DESCRIPTION:XIV Ortoinfecto \nWorkshop sobre os desafios modernos no manejo das infecções ortopédicas: da teoria à prática atual \nLocal: Auditório do Centro Integralidade IAMSPE – Rua Pedro de Toledo\, 1800 – Portão 2/São Paulo (SP) \nData: 5 e 6/12/2025 \nMais informações: Home | Ortoinfecto
URL:https://infectologia.org.br/event/xiv-ortoinfecto/
LOCATION:Rua Pedro de Toledo\, 1800
CATEGORIES:Nacional
ATTACH;FMTTYPE=image/png:https://infectologia.org.br/wp-content/uploads/2025/11/XIV-Ortoinfecto.png
END:VEVENT
END:VCALENDAR