BEGIN:VCALENDAR
VERSION:2.0
PRODID:-//SBI - ECPv6.15.20//NONSGML v1.0//EN
CALSCALE:GREGORIAN
METHOD:PUBLISH
X-WR-CALNAME:SBI
X-ORIGINAL-URL:https://infectologia.org.br
X-WR-CALDESC:Eventos para SBI
REFRESH-INTERVAL;VALUE=DURATION:PT1H
X-Robots-Tag:noindex
X-PUBLISHED-TTL:PT1H
BEGIN:VTIMEZONE
TZID:America/Sao_Paulo
BEGIN:STANDARD
TZOFFSETFROM:-0300
TZOFFSETTO:-0300
TZNAME:-03
DTSTART:20240101T000000
END:STANDARD
END:VTIMEZONE
BEGIN:VEVENT
DTSTART;VALUE=DATE:20251102
DTEND;VALUE=DATE:20251106
DTSTAMP:20260425T135003
CREATED:20250319T134504Z
LAST-MODIFIED:20250319T152349Z
UID:11850-1762041600-1762387199@infectologia.org.br
SUMMARY:MedTrop 2025
DESCRIPTION:Os Congressos da Sociedade Brasileira de Medicina Tropical (SBMT)\, o MEDTROP e seus eventos satélites\, reúnem anualmente uma grande diversidade de profissionais que atuam na área: pesquisadores e professores de diferentes formações\, como médicos\, biólogos\, biomédicos\, farmacêuticos\, veterinários\, historiadores e profissionais que atuam nas áreas de vigilância em saúde e atenção primária do Sistema Único de Saúde (SUS)\, reunindo a comunidade científica nesta grande área para apresentar e discutir os temas mais relevantes e atuais no Brasil e no mundo tropical. Por outro lado\, o congresso atrai também muitos estudantes de graduação e de pós-graduação\, vinculados a diversos programas das áreas de ciências biológicas\, medicina e saúde pública\, o que representa a renovação e a continuidade desta grande comunidade que o Brasil construiu ao longo de décadas de atuação da SBMT. \nCLIQUE AQUI PARA SE INSCREVER
URL:https://infectologia.org.br/event/medtrop-2025/
LOCATION:Centro de Convenções de João Pessoa\, Rodovia PB-008\, Km 5 Polo Turístico - Cabo Branco\, João Pessoa\, Paraíba\, 58000-000\, Brazil
CATEGORIES:Nacional
ATTACH;FMTTYPE=image/png:https://infectologia.org.br/wp-content/uploads/2025/03/Screenshot-from-2025-03-19-10-29-57.png
ORGANIZER;CN="SBMT":MAILTO:SBMT@SBMT.ORG.BR
END:VEVENT
END:VCALENDAR