BEGIN:VCALENDAR
VERSION:2.0
PRODID:-//SBI - ECPv6.15.20//NONSGML v1.0//EN
CALSCALE:GREGORIAN
METHOD:PUBLISH
X-WR-CALNAME:SBI
X-ORIGINAL-URL:https://infectologia.org.br
X-WR-CALDESC:Eventos para SBI
REFRESH-INTERVAL;VALUE=DURATION:PT1H
X-Robots-Tag:noindex
X-PUBLISHED-TTL:PT1H
BEGIN:VTIMEZONE
TZID:America/Sao_Paulo
BEGIN:STANDARD
TZOFFSETFROM:-0300
TZOFFSETTO:-0300
TZNAME:-03
DTSTART:20240101T000000
END:STANDARD
END:VTIMEZONE
BEGIN:VEVENT
DTSTART;VALUE=DATE:20251010
DTEND;VALUE=DATE:20251012
DTSTAMP:20260425T123724
CREATED:20250806T174654Z
LAST-MODIFIED:20250806T174654Z
UID:12233-1760054400-1760227199@infectologia.org.br
SUMMARY:2º Congresso Mundial de Doenças Infecciosas
DESCRIPTION:Atenas (Grécia)
URL:https://infectologia.org.br/event/2o-congresso-mundial-de-doencas-infecciosas/
LOCATION:Atenas (Grécia)
CATEGORIES:Internacional
ATTACH;FMTTYPE=image/png:https://infectologia.org.br/wp-content/uploads/2025/08/evento-4.png
END:VEVENT
END:VCALENDAR