BEGIN:VCALENDAR
VERSION:2.0
PRODID:-//SBI - ECPv6.15.20//NONSGML v1.0//EN
CALSCALE:GREGORIAN
METHOD:PUBLISH
X-ORIGINAL-URL:https://infectologia.org.br
X-WR-CALDESC:Eventos para SBI
REFRESH-INTERVAL;VALUE=DURATION:PT1H
X-Robots-Tag:noindex
X-PUBLISHED-TTL:PT1H
BEGIN:VTIMEZONE
TZID:America/Sao_Paulo
BEGIN:STANDARD
TZOFFSETFROM:-0300
TZOFFSETTO:-0300
TZNAME:-03
DTSTART:20240101T000000
END:STANDARD
END:VTIMEZONE
BEGIN:VEVENT
DTSTART;VALUE=DATE:20250827
DTEND;VALUE=DATE:20250829
DTSTAMP:20260425T085641
CREATED:20250806T172601Z
LAST-MODIFIED:20250806T173321Z
UID:12223-1756252800-1756425599@infectologia.org.br
SUMMARY:9º Congresso do Centro-Oeste sobre Doenças Infecciosas Emergentes\, Reemergentes e Negligenciadas – DIERN
DESCRIPTION:9º Congresso do Centro-Oeste sobre Doenças Infecciosas Emergentes\, Reemergentes e Negligenciadas – DIERN \nLocal: Campo Grande (MS) \n 
URL:https://infectologia.org.br/event/9o-congresso-do-centro-oeste-sobre-doencas-infecciosas-emergentes-reemergentes-e-negligenciadas-diern/
LOCATION:Local: Campo Grande (MS)
CATEGORIES:Nacional
ATTACH;FMTTYPE=image/jpeg:https://infectologia.org.br/wp-content/uploads/2025/08/DIERN.jpg
END:VEVENT
END:VCALENDAR