BEGIN:VCALENDAR
VERSION:2.0
PRODID:-//SBI - ECPv6.15.20//NONSGML v1.0//EN
CALSCALE:GREGORIAN
METHOD:PUBLISH
X-WR-CALNAME:SBI
X-ORIGINAL-URL:https://infectologia.org.br
X-WR-CALDESC:Eventos para SBI
REFRESH-INTERVAL;VALUE=DURATION:PT1H
X-Robots-Tag:noindex
X-PUBLISHED-TTL:PT1H
BEGIN:VTIMEZONE
TZID:America/Sao_Paulo
BEGIN:STANDARD
TZOFFSETFROM:-0300
TZOFFSETTO:-0300
TZNAME:-03
DTSTART:20230101T000000
END:STANDARD
END:VTIMEZONE
BEGIN:VEVENT
DTSTART;VALUE=DATE:20241103
DTEND;VALUE=DATE:20241107
DTSTAMP:20260425T134952
CREATED:20240205T220003Z
LAST-MODIFIED:20240205T220003Z
UID:9360-1730592000-1730937599@infectologia.org.br
SUMMARY:33rd International Congress of Antimicrobial Chemotherapy (ICC)
DESCRIPTION:The International Society of Antimicrobial Chemotherapy (ISAC) is an international society which is also a registered charity (www. ISAC.world). ISAC aims to advance the education and the science of therapy of infection through the establishment of an international federation of affiliated national and regional societies with similar aims and objectives to those of the Charity. One of its main activities is the International Congress of Antimicrobial Chemotherapy (ICC). The ICC has been held around the globe every two years since 1959. The 33rd ICC will be held in Istanbul\, Turkey from 3 to 6 November 2024\, in conjunction with the Turkish Society of Hospital Infections and Control (HIDER) (www.hider.org.tr).
URL:https://infectologia.org.br/event/33rd-international-congress-of-antimicrobial-chemotherapy-icc/
LOCATION:Istanbul Congress Center\, Harbiye\, Darülbedai Cd. No:3\, 34367\, İstanbul\, Turquia
CATEGORIES:Internacional
ATTACH;FMTTYPE=image/png:https://infectologia.org.br/wp-content/uploads/2024/02/Screenshot-from-2024-02-05-18-52-45.png
ORGANIZER;CN="BROS":MAILTO:secretariat@icc2024.org
END:VEVENT
END:VCALENDAR