BEGIN:VCALENDAR
VERSION:2.0
PRODID:-//SBI - ECPv6.15.20//NONSGML v1.0//EN
CALSCALE:GREGORIAN
METHOD:PUBLISH
X-WR-CALNAME:SBI
X-ORIGINAL-URL:https://infectologia.org.br
X-WR-CALDESC:Eventos para SBI
REFRESH-INTERVAL;VALUE=DURATION:PT1H
X-Robots-Tag:noindex
X-PUBLISHED-TTL:PT1H
BEGIN:VTIMEZONE
TZID:America/Sao_Paulo
BEGIN:STANDARD
TZOFFSETFROM:-0300
TZOFFSETTO:-0300
TZNAME:-03
DTSTART:20230101T000000
END:STANDARD
END:VTIMEZONE
BEGIN:VEVENT
DTSTART;VALUE=DATE:20240613
DTEND;VALUE=DATE:20240615
DTSTAMP:20260425T214035
CREATED:20240205T193319Z
LAST-MODIFIED:20240205T193430Z
UID:9339-1718236800-1718409599@infectologia.org.br
SUMMARY:XX Fórum Internacional de Sepse - ILAS
DESCRIPTION:O Instituto Latino-americano de Sepse está se preparando para a vigésima edição deste encontro. O XX Fórum Internacional de Sepse ocorrerá nos dias 13 e 14 de junho de 2024\, em São Paulo. Estamos organizando um evento especial com palestrantes nacionais e internacionais renomados. \nO Fórum tem o objetivo de compartilhar e discutir atualizações importantes na área de infecção e sepse com todos os profissionais das múltiplas profissões interessados no assunto. Todos os anos reunimos pessoas das mais diversas áreas\, com o objetivo único de mudar a realidade da sepse em nosso país. \nEstamos elaborando uma programação atual e diversificada para que tenhamos discussões interessantes entre os participantes. Este ano falaremos muito sobre “A linha do cuidado do paciente com sepse”. \nManteremos o espaço multiprofissional\, além da sala de pediatria e neonatologia e aspectos de ciência translacional. Teremos novidades durante a programação desta edição tão especial. \nEsperamos vocês para compartilhar com o ILAS a XX edição do Fórum Internacional de Sepse.
URL:https://infectologia.org.br/event/xx-forum-internacional-de-sepse-ilas/
LOCATION:Milenium Convention Center\, Milenium Convention Center R. Dr. Bacelar\, 1043 - Vila Clementino\, São Paulo\, SP\, 04026-002\, Brasil
CATEGORIES:Internacional
ATTACH;FMTTYPE=image/png:https://infectologia.org.br/wp-content/uploads/2024/02/Screenshot-from-2024-02-05-16-31-20.png
ORGANIZER;CN="ILAS":MAILTO:secretaria@ilas.org.br
END:VEVENT
END:VCALENDAR